BEGIN:VCALENDAR
VERSION:2.0
PRODID:icalendar-ruby
CALSCALE:GREGORIAN
METHOD:PUBLISH
BEGIN:VEVENT
DTSTAMP:20260422T091409Z
UID:10-418772@reallifefoursquare.com
DTSTART:20261017T153000Z
DTEND:20261018T060000Z
CLASS:PUBLIC
CREATED:20260421T182508
DESCRIPTION:One Life Food Pantry\nEvery Saturday\nNumbers are handed out be
 tween 8:30am - 10:30am. Food service begins at 9:30am.\nWe serve Washingto
 n State. Please bring ID\, names and birthdates of everyone in your family
 . 
LAST-MODIFIED:20260421T182508
LOCATION:1801 Daniels Street\, Vancouver\, WA 98660
SUMMARY:One Life Food Pantry
URL;VALUE=URI:https://reallifefoursquare.com/events/one-life-food-pantry/20
 26-10-17
ATTACH;FILENAME=Volunteer-at-One-Life-food-pantrysign-%288.5-%C3%97-11-in%2
 9-%28Facebook-Post-%28Landscape%29%29-2.png;FMTTYPE=image/png:https://dq5p
 wpg1q8ru0.cloudfront.net/2025/03/27/00/08/21/03fd1bb8-1e87-4128-88cc-7fc3d
 87fee3d/Volunteer-at-One-Life-food-pantrysign-%25288.5-%25C3%2597-11-in%25
 29-%2528Facebook-Post-%2528Landscape%2529%2529-2.png
END:VEVENT
END:VCALENDAR
